BEGIN:VCALENDAR
VERSION:2.0
PRODID:-//Mercat Gait Sports Centre - ECPv6.15.15//NONSGML v1.0//EN
CALSCALE:GREGORIAN
METHOD:PUBLISH
X-WR-CALNAME:Mercat Gait Sports Centre
X-ORIGINAL-URL:https://www.mercatgait.com
X-WR-CALDESC:Events for Mercat Gait Sports Centre
REFRESH-INTERVAL;VALUE=DURATION:PT1H
X-Robots-Tag:noindex
X-PUBLISHED-TTL:PT1H
BEGIN:VTIMEZONE
TZID:Europe/London
BEGIN:DAYLIGHT
TZOFFSETFROM:+0000
TZOFFSETTO:+0100
TZNAME:BST
DTSTART:20250330T010000
END:DAYLIGHT
BEGIN:STANDARD
TZOFFSETFROM:+0100
TZOFFSETTO:+0000
TZNAME:GMT
DTSTART:20251026T010000
END:STANDARD
BEGIN:DAYLIGHT
TZOFFSETFROM:+0000
TZOFFSETTO:+0100
TZNAME:BST
DTSTART:20260329T010000
END:DAYLIGHT
BEGIN:STANDARD
TZOFFSETFROM:+0100
TZOFFSETTO:+0000
TZNAME:GMT
DTSTART:20261025T010000
END:STANDARD
BEGIN:DAYLIGHT
TZOFFSETFROM:+0000
TZOFFSETTO:+0100
TZNAME:BST
DTSTART:20270328T010000
END:DAYLIGHT
BEGIN:STANDARD
TZOFFSETFROM:+0100
TZOFFSETTO:+0000
TZNAME:GMT
DTSTART:20271031T010000
END:STANDARD
END:VTIMEZONE
BEGIN:VEVENT
DTSTART;VALUE=DATE:20260531
DTEND;VALUE=DATE:20260601
DTSTAMP:20260425T115322
CREATED:20260225T132713Z
LAST-MODIFIED:20260225T132713Z
UID:6100-1780185600-1780271999@www.mercatgait.com
SUMMARY:Heart of Midlothian Gala
DESCRIPTION:The pool will be closed to the public all day. Sorry for any inconvenience.
URL:https://www.mercatgait.com/event/heart-of-midlothian-gala/
CATEGORIES:Swim Gala
ATTACH;FMTTYPE=image/jpeg:https://www.mercatgait.com/wp-content/uploads/2019/01/blue-competition-competitors-56837.jpg
END:VEVENT
BEGIN:VEVENT
DTSTART;TZID=Europe/London:20260529T173000
DTEND;TZID=Europe/London:20260529T203000
DTSTAMP:20260425T115322
CREATED:20260225T133122Z
LAST-MODIFIED:20260225T133122Z
UID:6104-1780075800-1780086600@www.mercatgait.com
SUMMARY:Tranent ASC Swim Gala
DESCRIPTION:The pool will be closed to the public 17:30 – 20:30
URL:https://www.mercatgait.com/event/tranent-asc-swim-gala/
CATEGORIES:Swim Gala
ATTACH;FMTTYPE=image/jpeg:https://www.mercatgait.com/wp-content/uploads/2019/01/swimming-659903_960_720.jpg
END:VEVENT
BEGIN:VEVENT
DTSTART;VALUE=DATE:20260523
DTEND;VALUE=DATE:20260524
DTSTAMP:20260425T115322
CREATED:20250521T093819Z
LAST-MODIFIED:20250521T093819Z
UID:5850-1779494400-1779580799@www.mercatgait.com
SUMMARY:Haddington Swim Gala
DESCRIPTION:The pool will be closed to the public all day. Sorry for any inconvenience.
URL:https://www.mercatgait.com/event/haddington-swim-gala-2/
CATEGORIES:Swim Gala
ATTACH;FMTTYPE=image/jpeg:https://www.mercatgait.com/wp-content/uploads/2019/01/swimming-659903_960_720.jpg
END:VEVENT
BEGIN:VEVENT
DTSTART;VALUE=DATE:20260503
DTEND;VALUE=DATE:20260504
DTSTAMP:20260425T115322
CREATED:20250521T093652Z
LAST-MODIFIED:20250521T093652Z
UID:5848-1777766400-1777852799@www.mercatgait.com
SUMMARY:Lothian Regional Swim Gala
DESCRIPTION:The pool will be closed to the public all day. Sorry for any inconvenience.
URL:https://www.mercatgait.com/event/lothian-regional-swim-gala-3/
CATEGORIES:Swim Gala
ATTACH;FMTTYPE=image/jpeg:https://www.mercatgait.com/wp-content/uploads/2019/01/blue-competition-competitors-56837.jpg
END:VEVENT
BEGIN:VEVENT
DTSTART;VALUE=DATE:20260502
DTEND;VALUE=DATE:20260503
DTSTAMP:20260425T115322
CREATED:20250521T104928Z
LAST-MODIFIED:20250521T104928Z
UID:5856-1777680000-1777766399@www.mercatgait.com
SUMMARY:Lothian Regional Swim Gala
DESCRIPTION:The pool will be closed to the public all day. Sorry for any inconvenience.
URL:https://www.mercatgait.com/event/lothian-regional-swim-gala-5/
CATEGORIES:Swim Gala
ATTACH;FMTTYPE=image/jpeg:https://www.mercatgait.com/wp-content/uploads/2019/01/swimming-659903_960_720.jpg
END:VEVENT
BEGIN:VEVENT
DTSTART;VALUE=DATE:20260425
DTEND;VALUE=DATE:20260426
DTSTAMP:20260425T115322
CREATED:20250521T110038Z
LAST-MODIFIED:20250521T110038Z
UID:5866-1777075200-1777161599@www.mercatgait.com
SUMMARY:Tranent Swim Gala
DESCRIPTION:The pool will be closed to the public all day. Sorry for any inconvenience.
URL:https://www.mercatgait.com/event/tranent-swim-gala/
CATEGORIES:Swim Gala
ATTACH;FMTTYPE=image/jpeg:https://www.mercatgait.com/wp-content/uploads/2019/01/swimming-659903_960_720.jpg
END:VEVENT
BEGIN:VEVENT
DTSTART;VALUE=DATE:20260412
DTEND;VALUE=DATE:20260413
DTSTAMP:20260425T115322
CREATED:20250901T140422Z
LAST-MODIFIED:20250901T140422Z
UID:5915-1775952000-1776038399@www.mercatgait.com
SUMMARY:Midloathian Swim GALA
DESCRIPTION:The pool will be closed to the public all day. Sorry for any inconvenience.
URL:https://www.mercatgait.com/event/midloathian-swim-gala/
CATEGORIES:Swim Gala
END:VEVENT
BEGIN:VEVENT
DTSTART;VALUE=DATE:20260411
DTEND;VALUE=DATE:20260412
DTSTAMP:20260425T115322
CREATED:20260411T074918Z
LAST-MODIFIED:20260411T074918Z
UID:6118-1775865600-1775951999@www.mercatgait.com
SUMMARY:Midlothian Swim Meet
DESCRIPTION:The pool will be closed to the public all day. Sorry for any inconvenience.
URL:https://www.mercatgait.com/event/midlothian-swim-meet/
CATEGORIES:Swim Gala
ATTACH;FMTTYPE=image/jpeg:https://www.mercatgait.com/wp-content/uploads/2019/01/140904-F-FF749-006.jpg
END:VEVENT
END:VCALENDAR